BEGIN:VCALENDAR
VERSION:2.0
PRODID:-//Association des amis du Château de La Sarraz - ECPv6.10.1.1//NONSGML v1.0//EN
CALSCALE:GREGORIAN
METHOD:PUBLISH
X-ORIGINAL-URL:https://amis-chateau-lasarraz.ch
X-WR-CALDESC:Évènements pour Association des amis du Château de La Sarraz
REFRESH-INTERVAL;VALUE=DURATION:PT1H
X-Robots-Tag:noindex
X-PUBLISHED-TTL:PT1H
BEGIN:VTIMEZONE
TZID:Europe/Paris
BEGIN:DAYLIGHT
TZOFFSETFROM:+0100
TZOFFSETTO:+0200
TZNAME:CEST
DTSTART:20240331T010000
END:DAYLIGHT
BEGIN:STANDARD
TZOFFSETFROM:+0200
TZOFFSETTO:+0100
TZNAME:CET
DTSTART:20241027T010000
END:STANDARD
END:VTIMEZONE
BEGIN:VEVENT
DTSTART;TZID=Europe/Paris:20240929T110000
DTEND;TZID=Europe/Paris:20240929T150000
DTSTAMP:20260421T124628
CREATED:20240822T104524Z
LAST-MODIFIED:20240926T104339Z
UID:2826-1727607600-1727622000@amis-chateau-lasarraz.ch
SUMMARY:Journée Malakoffs: 29 septembre
DESCRIPTION:Après le succès remporté par la précédente édition\, la journée Malakoffs est de retour au Château de La Sarraz\, le 29 septembre de 11h00 à 15h00. Cette année\, c’est sous forme de forfait que vous pourrez déguster cette délicieuse spécialité vaudoise\, préparée avec soin par Jacques Tinguely de Vufflens-La-Château. Pour 20.-\, vous profitez de 2 malakoffs\, 1 salade et 1 dessert. Tout malakoff supplémentaire\, pour le prix de 6.-. Comme on ne change pas une équipe qui gagne\, l’ensemble de cuivres Music’Encor’ animera la manifestation. Cette journée est organisée en faveur de la préservation des arbres du parc du Château. Il va faire beau\, mais frais. Vous aurez donc soit la possibilité de manger à l’abri dans la salle de La Débridée\, ou en extérieur\, puisque des tentes et des tables seront installées pour profiter du beau temps. Vous n’avez pas besoin de réserver avant de venir! Nous avons hâte de vous accueillir pour cette belle journée dans ce lieu d’exception.
URL:https://amis-chateau-lasarraz.ch/event/journee-malakoffs-29-septembre-chateau-de-la-sarraz/
LOCATION:Château de La Sarraz\, Château 1\, 1315 La Sarraz\, La Sarraz\, 1315\, Suisse
CATEGORIES:Journée Malakoffs
ATTACH;FMTTYPE=image/jpeg:https://amis-chateau-lasarraz.ch/wp-content/uploads/2024/08/ACLS_Flyer_Malakoff_A5_2024.jpg
END:VEVENT
END:VCALENDAR